Package: ggtree Version: 3.99.2 Command: /Library/Frameworks/R.framework/Resources/bin/R CMD INSTALL ggtree StartedAt: 2025-10-24 15:08:32 -0400 (Fri, 24 Oct 2025) EndedAt: 2025-10-24 15:08:38 -0400 (Fri, 24 Oct 2025) EllapsedTime: 5.5 seconds RetCode: 0 Status: OK