Package: ggtree Version: 3.99.2 Command: /Library/Frameworks/R.framework/Resources/bin/R CMD check --install=check:ggtree.install-out.txt --library=/Library/Frameworks/R.framework/Resources/library --no-vignettes --timings ggtree_3.99.2.tar.gz StartedAt: 2025-10-24 20:01:35 -0400 (Fri, 24 Oct 2025) EndedAt: 2025-10-24 20:02:13 -0400 (Fri, 24 Oct 2025) EllapsedTime: 37.5 seconds RetCode: 0 Status: OK CheckDir: ggtree.Rcheck Warnings: 0