Package: ggtree Version: 3.99.2 Command: /Library/Frameworks/R.framework/Resources/bin/R CMD build --keep-empty-dirs --no-resave-data ggtree StartedAt: 2025-10-24 16:35:07 -0400 (Fri, 24 Oct 2025) EndedAt: 2025-10-24 16:35:13 -0400 (Fri, 24 Oct 2025) EllapsedTime: 6.1 seconds RetCode: 0 Status: OK PackageFile: ggtree_3.99.2.tar.gz PackageFileSize: 356.9 KiB