Package: ggtree Version: 3.99.2 Maintainer: Guangchuang Yu MaintainerEmail: guangchuangyu at gmail.com git_url: https://git.bioconductor.org/packages/ggtree git_branch: devel git_last_commit: f872a3b git_last_commit_date: 2025-10-23 04:04:45 -0400 (Thu, 23 Oct 2025)