Package: ggspavis Version: 1.15.9 Command: /home/biocbuild/bbs-3.22-bioc/R/bin/R CMD build --keep-empty-dirs --no-resave-data --md5 ggspavis StartedAt: 2025-10-24 18:01:47 -0400 (Fri, 24 Oct 2025) EndedAt: 2025-10-24 18:04:57 -0400 (Fri, 24 Oct 2025) EllapsedTime: 190.1 seconds RetCode: 0 Status: OK PackageFile: ggspavis_1.15.9.tar.gz PackageFileSize: 6.908 MiB