Package: ggseqalign Version: 1.3.0 Command: /home/biocbuild/bbs-3.22-bioc/R/bin/R CMD build --keep-empty-dirs --no-resave-data --md5 ggseqalign StartedAt: 2025-10-24 18:01:43 -0400 (Fri, 24 Oct 2025) EndedAt: 2025-10-24 18:02:13 -0400 (Fri, 24 Oct 2025) EllapsedTime: 30.0 seconds RetCode: 0 Status: OK PackageFile: ggseqalign_1.3.0.tar.gz PackageFileSize: 728 KiB