Package: ggseqalign Version: 1.4.0 Command: /Library/Frameworks/R.framework/Resources/bin/R CMD build --keep-empty-dirs --no-resave-data ggseqalign StartedAt: 2025-10-31 17:15:37 -0400 (Fri, 31 Oct 2025) EndedAt: 2025-10-31 17:16:12 -0400 (Fri, 31 Oct 2025) EllapsedTime: 34.1 seconds RetCode: 0 Status: OK PackageFile: ggseqalign_1.4.0.tar.gz PackageFileSize: 713.6 KiB