Package: ggseqalign Version: 1.4.0 Command: rm -rf ggseqalign.buildbin-libdir && mkdir ggseqalign.buildbin-libdir && /Users/biocbuild/BBS/utils/build-universal.sh ggseqalign_1.4.0.tar.gz /Library/Frameworks/R.framework/Resources/bin/R ggseqalign.buildbin-libdir StartedAt: 2025-11-01 01:36:48 -0400 (Sat, 01 Nov 2025) EndedAt: 2025-11-01 01:37:07 -0400 (Sat, 01 Nov 2025) EllapsedTime: 19.6 seconds RetCode: 0 Status: OK PackageFile: ggseqalign_1.4.0.tgz PackageFileSize: 729.4 KiB