Package: ggseqalign Version: 1.3.0 Command: /Library/Frameworks/R.framework/Resources/bin/R CMD INSTALL ggseqalign StartedAt: 2025-10-24 15:30:23 -0400 (Fri, 24 Oct 2025) EndedAt: 2025-10-24 15:30:28 -0400 (Fri, 24 Oct 2025) EllapsedTime: 5.1 seconds RetCode: 0 Status: OK