Package: ggseqalign Version: 1.3.0 Command: /Library/Frameworks/R.framework/Resources/bin/R CMD build --keep-empty-dirs --no-resave-data ggseqalign StartedAt: 2025-10-24 16:34:58 -0400 (Fri, 24 Oct 2025) EndedAt: 2025-10-24 16:35:10 -0400 (Fri, 24 Oct 2025) EllapsedTime: 12.1 seconds RetCode: 0 Status: OK PackageFile: ggseqalign_1.3.0.tar.gz PackageFileSize: 714.2 KiB