Package: ggsc Version: 1.7.1 Command: /home/biocbuild/bbs-3.22-bioc/R/bin/R CMD build --keep-empty-dirs --no-resave-data --md5 ggsc StartedAt: 2025-10-24 18:01:28 -0400 (Fri, 24 Oct 2025) EndedAt: 2025-10-24 18:02:26 -0400 (Fri, 24 Oct 2025) EllapsedTime: 58.1 seconds RetCode: 0 Status: OK PackageFile: ggsc_1.7.1.tar.gz PackageFileSize: 82.72 KiB