Package: ggmsa Version: 1.15.1 Command: /home/biocbuild/bbs-3.22-bioc/R/bin/R CMD INSTALL ggmsa StartedAt: 2025-10-24 15:48:29 -0400 (Fri, 24 Oct 2025) EndedAt: 2025-10-24 15:48:46 -0400 (Fri, 24 Oct 2025) EllapsedTime: 16.3 seconds RetCode: 0 Status: OK