Package: ggmanh Version: 1.14.0 Command: /home/biocbuild/bbs-3.22-bioc/R/bin/R CMD INSTALL ggmanh StartedAt: 2025-10-30 15:34:00 -0400 (Thu, 30 Oct 2025) EndedAt: 2025-10-30 15:34:06 -0400 (Thu, 30 Oct 2025) EllapsedTime: 6.1 seconds RetCode: 0 Status: OK