Package: ggbio Version: 1.57.1 Command: /home/biocbuild/bbs-3.22-bioc/R/bin/R CMD INSTALL ggbio StartedAt: 2025-10-24 15:56:33 -0400 (Fri, 24 Oct 2025) EndedAt: 2025-10-24 15:57:32 -0400 (Fri, 24 Oct 2025) EllapsedTime: 58.5 seconds RetCode: 0 Status: OK