Package: ggbio Version: 1.57.1 Command: /home/biocbuild/bbs-3.22-bioc/R/bin/R CMD build --keep-empty-dirs --no-resave-data --md5 ggbio StartedAt: 2025-10-24 18:00:54 -0400 (Fri, 24 Oct 2025) EndedAt: 2025-10-24 18:07:12 -0400 (Fri, 24 Oct 2025) EllapsedTime: 378.3 seconds RetCode: 0 Status: OK PackageFile: ggbio_1.57.1.tar.gz PackageFileSize: 3.339 MiB