Back to Multiple platform build/check report for BioC 3.22:   simplified   long
ABCDEF[G]HIJKLMNOPQRSTUVWXYZ

This page was generated on 2025-11-05 12:39 -0500 (Wed, 05 Nov 2025).

HostnameOSArch (*)R versionInstalled pkgs
nebbiolo2Linux (Ubuntu 24.04.3 LTS)x86_644.5.1 Patched (2025-08-23 r88802) -- "Great Square Root" 4902
kjohnson3macOS 13.7.7 Venturaarm644.5.1 Patched (2025-09-10 r88807) -- "Great Square Root" 4638
Click on any hostname to see more info about the system (e.g. compilers)      (*) as reported by 'uname -p', except on Windows and Mac OS X

All results for package ggbio


To the developers/maintainers of the ggbio package:
- Allow up to 24 hours (and sometimes 48 hours) for your latest push to git@git.bioconductor.org:packages/ggbio.git to reflect on this report. See Troubleshooting Build Report for more information.
- Use the following Renviron settings to reproduce errors and warnings.
- If 'R CMD check' started to fail recently on the Linux builder(s) over a missing dependency, add the missing dependency to 'Suggests:' in your DESCRIPTION file. See Renviron.bioc for more information.

raw results

Package 873/2361HostnameOS / ArchINSTALLBUILDCHECKBUILD BIN
ggbio 1.58.0  (landing page)
Michael Lawrence
Snapshot Date: 2025-11-04 13:45 -0500 (Tue, 04 Nov 2025)
git_url: https://git.bioconductor.org/packages/ggbio
git_branch: RELEASE_3_22
git_last_commit: 678f10e
git_last_commit_date: 2025-10-29 10:09:27 -0500 (Wed, 29 Oct 2025)
nebbiolo2Linux (Ubuntu 24.04.3 LTS) / x86_64  OK    OK    WARNINGS  UNNEEDED, same version is already published
kjohnson3macOS 13.7.7 Ventura / arm64  OK    OK    WARNINGS    OK  UNNEEDED, same version is already published



Results for Bioconductor software packages that depend directly on package ggbio

QUICK STATSOS / ArchINSTALLBUILDCHECKBUILD BIN
nebbiolo2Linux (Ubuntu 24.04.3 LTS) / x86_64
0015
0114
00410
kjohnson3macOS 13.7.7 Ventura / arm64
0014
0113
0139
0013
Package 1/15HostnameOS / ArchINSTALLBUILDCHECKBUILD BIN
BOBaFIT 1.14.0  (landing page)
Gaia Mazzocchetti
git_last_commit: b498546
git_last_commit_date: 2025-10-29 11:14:21 -0500
nebbiolo2Linux (Ubuntu 24.04.3 LTS) / x86_64  OK    OK    WARNINGS  UNNEEDED, same version is already published
kjohnson3macOS 13.7.7 Ventura / arm64  OK    OK    WARNINGS    OK  UNNEEDED, same version is already published
Package 2/15HostnameOS / ArchINSTALLBUILDCHECKBUILD BIN
CAFE 1.46.0  (landing page)
Sander Bollen
git_last_commit: d968725
git_last_commit_date: 2025-10-29 10:18:22 -0500
nebbiolo2Linux (Ubuntu 24.04.3 LTS) / x86_64  OK    OK    WARNINGS  UNNEEDED, same version is already published
kjohnson3macOS 13.7.7 Ventura / arm64  OK    OK    WARNINGS    OK  UNNEEDED, same version is already published
Package 3/15HostnameOS / ArchINSTALLBUILDCHECKBUILD BIN
cageminer 1.16.0  (landing page)
Fabrício Almeida-Silva
git_last_commit: 304c1d0
git_last_commit_date: 2025-10-29 11:10:52 -0500
nebbiolo2Linux (Ubuntu 24.04.3 LTS) / x86_64  OK    OK    OK  UNNEEDED, same version is already published
kjohnson3macOS 13.7.7 Ventura / arm64  OK    OK    OK    OK  UNNEEDED, same version is already published
Package 4/15HostnameOS / ArchINSTALLBUILDCHECKBUILD BIN
Damsel 1.6.0  (landing page)
Caitlin Page
git_last_commit: a70f6d8
git_last_commit_date: 2025-10-29 11:29:38 -0500
nebbiolo2Linux (Ubuntu 24.04.3 LTS) / x86_64  OK    OK    WARNINGS  UNNEEDED, same version is already published
kjohnson3macOS 13.7.7 Ventura / arm64  OK    OK    WARNINGS    OK  UNNEEDED, same version is already published
Package 5/15HostnameOS / ArchINSTALLBUILDCHECKBUILD BIN
derfinderPlot 1.44.0  (landing page)
Leonardo Collado-Torres
git_last_commit: 84ed2cb
git_last_commit_date: 2025-10-29 10:21:51 -0500
nebbiolo2Linux (Ubuntu 24.04.3 LTS) / x86_64  OK    OK    OK  UNNEEDED, same version is already published
kjohnson3macOS 13.7.7 Ventura / arm64  OK    OK    OK    OK  UNNEEDED, same version is already published
Package 6/15HostnameOS / ArchINSTALLBUILDCHECKBUILD BIN
FLAMES 2.4.1  (landing page)
Changqing Wang
git_last_commit: 41bbd55
git_last_commit_date: 2025-10-31 01:50:56 -0500
nebbiolo2Linux (Ubuntu 24.04.3 LTS) / x86_64  OK    OK    OK  UNNEEDED, same version is already published
kjohnson3macOS 13.7.7 Ventura / arm64  OK    OK    OK    OK  UNNEEDED, same version is already published
Package 7/15HostnameOS / ArchINSTALLBUILDCHECKBUILD BIN
GenomicOZone 1.24.0  (landing page)
Hua Zhong, Mingzhou Song
git_last_commit: 0fee919
git_last_commit_date: 2025-10-29 10:53:39 -0500
nebbiolo2Linux (Ubuntu 24.04.3 LTS) / x86_64  OK    OK    OK  UNNEEDED, same version is already published
kjohnson3macOS 13.7.7 Ventura / arm64  OK    OK    OK    OK  UNNEEDED, same version is already published
Package 8/15HostnameOS / ArchINSTALLBUILDCHECKBUILD BIN
intansv 1.50.0  (landing page)
Wen Yao
git_last_commit: 0bb1a74
git_last_commit_date: 2025-10-29 10:15:39 -0500
nebbiolo2Linux (Ubuntu 24.04.3 LTS) / x86_64  OK    OK    OK  UNNEEDED, same version is already published
kjohnson3macOS 13.7.7 Ventura / arm64  OK    OK    OK    OK  UNNEEDED, same version is already published
Package 9/15HostnameOS / ArchINSTALLBUILDCHECKBUILD BIN
msgbsR 1.34.0  (landing page)
Benjamin Mayne
git_last_commit: 1016b01
git_last_commit_date: 2025-10-29 10:38:42 -0500
nebbiolo2Linux (Ubuntu 24.04.3 LTS) / x86_64  OK    OK    OK  UNNEEDED, same version is already published
kjohnson3macOS 13.7.7 Ventura / arm64  OK    OK    OK    OK  UNNEEDED, same version is already published
Package 10/15HostnameOS / ArchINSTALLBUILDCHECKBUILD BIN
R3CPET 1.42.0  (landing page)
Mohamed Nadhir Djekidel
git_last_commit: fd5a1f8
git_last_commit_date: 2025-10-29 10:25:45 -0500
nebbiolo2Linux (Ubuntu 24.04.3 LTS) / x86_64  OK    OK    WARNINGS  UNNEEDED, same version is already published
kjohnson3macOS 13.7.7 Ventura / arm64... NOT SUPPORTED ...
Package 11/15HostnameOS / ArchINSTALLBUILDCHECKBUILD BIN
ReportingTools 2.50.0  (landing page)
Jason A. Hackney , Gabriel Becker
git_last_commit: 9a53d36
git_last_commit_date: 2025-10-29 10:12:14 -0500
nebbiolo2Linux (Ubuntu 24.04.3 LTS) / x86_64  OK    OK    OK  UNNEEDED, same version is already published
kjohnson3macOS 13.7.7 Ventura / arm64  OK    OK    OK    OK  UNNEEDED, same version is already published
Package 12/15HostnameOS / ArchINSTALLBUILDCHECKBUILD BIN
RiboProfiling 1.40.0  (landing page)
A. Popa
git_last_commit: 43cc4ee
git_last_commit_date: 2025-10-29 10:28:21 -0500
nebbiolo2Linux (Ubuntu 24.04.3 LTS) / x86_64  OK    ERROR  skipped
kjohnson3macOS 13.7.7 Ventura / arm64  OK    ERROR  skippedskipped
Package 13/15HostnameOS / ArchINSTALLBUILDCHECKBUILD BIN
scafari 1.0.0  (landing page)
Sophie Wind
git_last_commit: 31af230
git_last_commit_date: 2025-10-29 11:36:58 -0500
nebbiolo2Linux (Ubuntu 24.04.3 LTS) / x86_64  OK    OK    OK  UNNEEDED, same version is already published
kjohnson3macOS 13.7.7 Ventura / arm64  OK    OK    OK    OK  UNNEEDED, same version is already published
Package 14/15HostnameOS / ArchINSTALLBUILDCHECKBUILD BIN
scruff 1.28.0  (landing page)
Zhe Wang
git_last_commit: 085152e
git_last_commit_date: 2025-10-29 10:46:27 -0500
nebbiolo2Linux (Ubuntu 24.04.3 LTS) / x86_64  OK    OK    OK  UNNEEDED, same version is already published
kjohnson3macOS 13.7.7 Ventura / arm64  OK    OK    OK    OK  UNNEEDED, same version is already published
Package 15/15HostnameOS / ArchINSTALLBUILDCHECKBUILD BIN
SomaticSignatures 2.46.0  (landing page)
Julian Gehring
git_last_commit: 7058eda
git_last_commit_date: 2025-10-29 10:17:57 -0500
nebbiolo2Linux (Ubuntu 24.04.3 LTS) / x86_64  OK    OK    OK  UNNEEDED, same version is already published
kjohnson3macOS 13.7.7 Ventura / arm64  OK    OK    ERROR    OK