Package: gg4way Version: 1.7.1 Command: /home/biocbuild/bbs-3.22-bioc/R/bin/R CMD INSTALL gg4way StartedAt: 2025-10-24 15:33:37 -0400 (Fri, 24 Oct 2025) EndedAt: 2025-10-24 15:34:03 -0400 (Fri, 24 Oct 2025) EllapsedTime: 26.4 seconds RetCode: 0 Status: OK