Package: getDEE2 Version: 1.20.0 Command: /home/biocbuild/bbs-3.22-bioc/R/bin/R CMD check --install=check:getDEE2.install-out.txt --library=/home/biocbuild/bbs-3.22-bioc/R/site-library --timings getDEE2_1.20.0.tar.gz StartedAt: 2025-10-30 06:23:59 -0400 (Thu, 30 Oct 2025) EndedAt: 2025-10-30 06:32:25 -0400 (Thu, 30 Oct 2025) EllapsedTime: 505.6 seconds RetCode: 0 Status: OK CheckDir: getDEE2.Rcheck Warnings: 0