Package: getDEE2 Version: 1.19.3 Command: /Library/Frameworks/R.framework/Resources/bin/R CMD INSTALL getDEE2 StartedAt: 2025-10-27 15:18:02 -0400 (Mon, 27 Oct 2025) EndedAt: 2025-10-27 15:18:30 -0400 (Mon, 27 Oct 2025) EllapsedTime: 27.3 seconds RetCode: 0 Status: OK