Package: getDEE2 Version: 1.19.3 Command: rm -rf getDEE2.buildbin-libdir && mkdir getDEE2.buildbin-libdir && /Users/biocbuild/BBS/utils/build-universal.sh getDEE2_1.19.3.tar.gz /Library/Frameworks/R.framework/Resources/bin/R getDEE2.buildbin-libdir StartedAt: 2025-10-25 01:42:25 -0400 (Sat, 25 Oct 2025) EndedAt: 2025-10-25 01:42:55 -0400 (Sat, 25 Oct 2025) EllapsedTime: 30.6 seconds RetCode: 0 Status: OK PackageFile: getDEE2_1.19.3.tgz PackageFileSize: 74.68 KiB