Package: getDEE2 Version: 1.19.3 Command: /Library/Frameworks/R.framework/Resources/bin/R CMD build --keep-empty-dirs --no-resave-data getDEE2 StartedAt: 2025-10-26 16:36:45 -0400 (Sun, 26 Oct 2025) EndedAt: 2025-10-26 16:37:26 -0400 (Sun, 26 Oct 2025) EllapsedTime: 40.4 seconds RetCode: 1 Status: ERROR PackageFile: None PackageFileSize: NA