Package: getDEE2 Version: 1.19.3 Command: rm -rf getDEE2.buildbin-libdir && mkdir getDEE2.buildbin-libdir && /Users/biocbuild/BBS/utils/build-universal.sh getDEE2_1.19.3.tar.gz /Library/Frameworks/R.framework/Resources/bin/R getDEE2.buildbin-libdir StartedAt: 2025-10-24 23:04:40 -0400 (Fri, 24 Oct 2025) EndedAt: 2025-10-24 23:04:49 -0400 (Fri, 24 Oct 2025) EllapsedTime: 9.1 seconds RetCode: 0 Status: OK PackageFile: getDEE2_1.19.3.tgz PackageFileSize: 76.24 KiB