Package: gep2pep Version: 1.29.0 Command: /home/biocbuild/bbs-3.22-bioc/R/bin/R CMD INSTALL gep2pep StartedAt: 2025-10-24 15:57:23 -0400 (Fri, 24 Oct 2025) EndedAt: 2025-10-24 15:57:39 -0400 (Fri, 24 Oct 2025) EllapsedTime: 15.9 seconds RetCode: 0 Status: OK