Package: gep2pep Version: 1.30.0 Command: /Library/Frameworks/R.framework/Resources/bin/R CMD INSTALL gep2pep StartedAt: 2025-10-31 15:29:27 -0400 (Fri, 31 Oct 2025) EndedAt: 2025-10-31 15:29:33 -0400 (Fri, 31 Oct 2025) EllapsedTime: 6.2 seconds RetCode: 0 Status: OK