Package: gep2pep Version: 1.30.0 Command: /Library/Frameworks/R.framework/Resources/bin/R CMD build --keep-empty-dirs --no-resave-data gep2pep StartedAt: 2025-10-30 16:31:41 -0400 (Thu, 30 Oct 2025) EndedAt: 2025-10-30 16:31:51 -0400 (Thu, 30 Oct 2025) EllapsedTime: 10.1 seconds RetCode: 0 Status: OK PackageFile: gep2pep_1.30.0.tar.gz PackageFileSize: 121.9 KiB