Package: geomeTriD Version: 1.3.21 Command: /home/biocbuild/bbs-3.22-bioc/R/bin/R CMD INSTALL geomeTriD StartedAt: 2025-10-24 15:59:34 -0400 (Fri, 24 Oct 2025) EndedAt: 2025-10-24 16:00:30 -0400 (Fri, 24 Oct 2025) EllapsedTime: 56.4 seconds RetCode: 0 Status: OK