Package: geomeTriD Version: 1.4.0 Command: /Library/Frameworks/R.framework/Resources/bin/R CMD INSTALL geomeTriD StartedAt: 2025-11-10 15:25:51 -0500 (Mon, 10 Nov 2025) EndedAt: 2025-11-10 15:26:15 -0500 (Mon, 10 Nov 2025) EllapsedTime: 24.2 seconds RetCode: 0 Status: OK