Package: geomeTriD Version: 1.4.0 Command: /Library/Frameworks/R.framework/Resources/bin/R CMD build --keep-empty-dirs --no-resave-data geomeTriD StartedAt: 2025-11-10 16:31:32 -0500 (Mon, 10 Nov 2025) EndedAt: 2025-11-10 16:32:16 -0500 (Mon, 10 Nov 2025) EllapsedTime: 44.5 seconds RetCode: 0 Status: OK PackageFile: geomeTriD_1.4.0.tar.gz PackageFileSize: 1.124 MiB