Package: genomicInstability Version: 1.15.0 Command: /home/biocbuild/bbs-3.22-bioc/R/bin/R CMD INSTALL genomicInstability StartedAt: 2025-10-24 15:41:01 -0400 (Fri, 24 Oct 2025) EndedAt: 2025-10-24 15:41:27 -0400 (Fri, 24 Oct 2025) EllapsedTime: 25.5 seconds RetCode: 0 Status: OK