Package: genomicInstability Version: 1.16.0 Command: /Library/Frameworks/R.framework/Resources/bin/R CMD build --keep-empty-dirs --no-resave-data genomicInstability StartedAt: 2025-11-10 16:30:09 -0500 (Mon, 10 Nov 2025) EndedAt: 2025-11-10 16:30:51 -0500 (Mon, 10 Nov 2025) EllapsedTime: 42.4 seconds RetCode: 0 Status: OK PackageFile: genomicInstability_1.16.0.tar.gz PackageFileSize: 1.211 MiB