Package: genomation Version: 1.41.1 Command: /home/biocbuild/bbs-3.22-bioc/R/bin/R CMD INSTALL genomation StartedAt: 2025-10-24 15:39:19 -0400 (Fri, 24 Oct 2025) EndedAt: 2025-10-24 15:40:08 -0400 (Fri, 24 Oct 2025) EllapsedTime: 48.5 seconds RetCode: 0 Status: OK