Package: genomation Version: 1.41.1 Command: /home/biocbuild/bbs-3.22-bioc/R/bin/R CMD build --keep-empty-dirs --no-resave-data --md5 genomation StartedAt: 2025-10-24 17:56:43 -0400 (Fri, 24 Oct 2025) EndedAt: 2025-10-24 17:58:00 -0400 (Fri, 24 Oct 2025) EllapsedTime: 77.1 seconds RetCode: 0 Status: OK PackageFile: genomation_1.41.1.tar.gz PackageFileSize: 6.013 MiB