Package: geneplotter Version: 1.88.0 Command: /Library/Frameworks/R.framework/Resources/bin/R CMD INSTALL geneplotter StartedAt: 2025-11-03 15:09:23 -0500 (Mon, 03 Nov 2025) EndedAt: 2025-11-03 15:09:31 -0500 (Mon, 03 Nov 2025) EllapsedTime: 8.1 seconds RetCode: 0 Status: OK