Package: geneplotter Version: 1.88.0 Command: /Library/Frameworks/R.framework/Resources/bin/R CMD build --keep-empty-dirs --no-resave-data geneplotter StartedAt: 2025-11-02 16:29:03 -0500 (Sun, 02 Nov 2025) EndedAt: 2025-11-02 16:29:15 -0500 (Sun, 02 Nov 2025) EllapsedTime: 11.1 seconds RetCode: 0 Status: OK PackageFile: geneplotter_1.88.0.tar.gz PackageFileSize: 1.648 MiB