Package: geneplotter Version: 1.88.0 Command: rm -rf geneplotter.buildbin-libdir && mkdir geneplotter.buildbin-libdir && /Users/biocbuild/BBS/utils/build-universal.sh geneplotter_1.88.0.tar.gz /Library/Frameworks/R.framework/Resources/bin/R geneplotter.buildbin-libdir StartedAt: 2025-11-06 00:04:24 -0500 (Thu, 06 Nov 2025) EndedAt: 2025-11-06 00:04:30 -0500 (Thu, 06 Nov 2025) EllapsedTime: 6.1 seconds RetCode: 0 Status: OK PackageFile: geneplotter_1.88.0.tgz PackageFileSize: 1.762 MiB