Package: genefu Version: 2.42.0 Command: /home/biocbuild/bbs-3.22-bioc/R/bin/R CMD INSTALL genefu StartedAt: 2025-11-03 15:40:09 -0500 (Mon, 03 Nov 2025) EndedAt: 2025-11-03 15:40:32 -0500 (Mon, 03 Nov 2025) EllapsedTime: 23.0 seconds RetCode: 0 Status: OK