Package: genefu Version: 2.42.0 Command: /home/biocbuild/bbs-3.22-bioc/R/bin/R CMD build --keep-empty-dirs --no-resave-data --md5 genefu StartedAt: 2025-11-03 17:47:50 -0500 (Mon, 03 Nov 2025) EndedAt: 2025-11-03 17:49:04 -0500 (Mon, 03 Nov 2025) EllapsedTime: 74.1 seconds RetCode: 0 Status: OK PackageFile: genefu_2.42.0.tar.gz PackageFileSize: 4.907 MiB