Package: geneRxCluster Version: 1.46.0 Command: /home/biocbuild/bbs-3.22-bioc/R/bin/R CMD INSTALL geneRxCluster StartedAt: 2025-11-03 15:15:51 -0500 (Mon, 03 Nov 2025) EndedAt: 2025-11-03 15:16:00 -0500 (Mon, 03 Nov 2025) EllapsedTime: 9.8 seconds RetCode: 0 Status: OK