Package: geneClassifiers Version: 1.33.0 Command: /home/biocbuild/bbs-3.22-bioc/R/bin/R CMD INSTALL geneClassifiers StartedAt: 2025-10-27 15:14:12 -0400 (Mon, 27 Oct 2025) EndedAt: 2025-10-27 15:14:17 -0400 (Mon, 27 Oct 2025) EllapsedTime: 5.4 seconds RetCode: 0 Status: OK