Package: genArise Version: 1.85.0 Command: /home/biocbuild/bbs-3.22-bioc/R/bin/R CMD INSTALL genArise StartedAt: 2025-10-27 15:06:45 -0400 (Mon, 27 Oct 2025) EndedAt: 2025-10-27 15:07:15 -0400 (Mon, 27 Oct 2025) EllapsedTime: 29.4 seconds RetCode: 0 Status: OK