Package: gemma.R Version: 3.5.13 Command: /home/biocbuild/bbs-3.22-bioc/R/bin/R CMD INSTALL gemma.R StartedAt: 2025-10-24 15:28:43 -0400 (Fri, 24 Oct 2025) EndedAt: 2025-10-24 15:28:48 -0400 (Fri, 24 Oct 2025) EllapsedTime: 5.4 seconds RetCode: 0 Status: OK