Package: gemma.R Version: 3.5.13 Command: /home/biocbuild/bbs-3.22-bioc/R/bin/R CMD check --install=check:gemma.R.install-out.txt --library=/home/biocbuild/bbs-3.22-bioc/R/site-library --timings gemma.R_3.5.13.tar.gz StartedAt: 2025-10-24 23:56:15 -0400 (Fri, 24 Oct 2025) EndedAt: 2025-10-25 00:07:47 -0400 (Sat, 25 Oct 2025) EllapsedTime: 692.7 seconds RetCode: 0 Status: OK CheckDir: gemma.R.Rcheck Warnings: 0