Package: gemma.R Version: 3.5.13 Command: /home/biocbuild/bbs-3.22-bioc/R/bin/R CMD build --keep-empty-dirs --no-resave-data --md5 gemma.R StartedAt: 2025-10-24 17:54:24 -0400 (Fri, 24 Oct 2025) EndedAt: 2025-10-24 17:58:40 -0400 (Fri, 24 Oct 2025) EllapsedTime: 255.3 seconds RetCode: 0 Status: OK PackageFile: gemma.R_3.5.13.tar.gz PackageFileSize: 2.29 MiB