Package: gemma.R Version: 3.5.13 Command: /Library/Frameworks/R.framework/Resources/bin/R CMD INSTALL gemma.R StartedAt: 2025-10-24 15:27:21 -0400 (Fri, 24 Oct 2025) EndedAt: 2025-10-24 15:27:29 -0400 (Fri, 24 Oct 2025) EllapsedTime: 8.2 seconds RetCode: 0 Status: OK