Package: gemma.R Version: 3.5.13 Command: /Library/Frameworks/R.framework/Resources/bin/R CMD build --keep-empty-dirs --no-resave-data gemma.R StartedAt: 2025-10-24 17:10:32 -0400 (Fri, 24 Oct 2025) EndedAt: 2025-10-24 17:15:19 -0400 (Fri, 24 Oct 2025) EllapsedTime: 287.3 seconds RetCode: 0 Status: OK PackageFile: gemma.R_3.5.13.tar.gz PackageFileSize: 2.149 MiB