Package: gemma.R Version: 3.5.13 Command: rm -rf gemma.R.buildbin-libdir && mkdir gemma.R.buildbin-libdir && /Users/biocbuild/BBS/utils/build-universal.sh gemma.R_3.5.13.tar.gz /Library/Frameworks/R.framework/Resources/bin/R gemma.R.buildbin-libdir StartedAt: 2025-10-24 23:03:58 -0400 (Fri, 24 Oct 2025) EndedAt: 2025-10-24 23:04:01 -0400 (Fri, 24 Oct 2025) EllapsedTime: 3.1 seconds RetCode: 0 Status: OK PackageFile: gemma.R_3.5.13.tgz PackageFileSize: 2.366 MiB