Package: gemma.R Version: 3.5.13 Maintainer: Ogan Mancarci MaintainerEmail: ogan.mancarci at gmail.com git_url: https://git.bioconductor.org/packages/gemma.R git_branch: devel git_last_commit: b746483 git_last_commit_date: 2025-10-09 17:44:18 -0400 (Thu, 09 Oct 2025)