Package: gemini Version: 1.23.0 Command: /Library/Frameworks/R.framework/Resources/bin/R CMD INSTALL gemini StartedAt: 2025-10-24 15:07:41 -0400 (Fri, 24 Oct 2025) EndedAt: 2025-10-24 15:07:46 -0400 (Fri, 24 Oct 2025) EllapsedTime: 5.2 seconds RetCode: 0 Status: OK