Package: gemini Version: 1.23.0 Command: /Library/Frameworks/R.framework/Resources/bin/R CMD build --keep-empty-dirs --no-resave-data gemini StartedAt: 2025-10-24 16:30:35 -0400 (Fri, 24 Oct 2025) EndedAt: 2025-10-24 16:30:46 -0400 (Fri, 24 Oct 2025) EllapsedTime: 11.1 seconds RetCode: 0 Status: OK PackageFile: gemini_1.23.0.tar.gz PackageFileSize: 4.113 MiB