Package: geNetClassifier Version: 1.49.0 Command: /home/biocbuild/bbs-3.22-bioc/R/bin/R CMD INSTALL geNetClassifier StartedAt: 2025-10-24 16:08:31 -0400 (Fri, 24 Oct 2025) EndedAt: 2025-10-24 16:08:39 -0400 (Fri, 24 Oct 2025) EllapsedTime: 8.3 seconds RetCode: 0 Status: OK